BEGIN:VCALENDAR
VERSION:2.0
PRODID:-//Greenville HA - ECPv6.15.20//NONSGML v1.0//EN
CALSCALE:GREGORIAN
METHOD:PUBLISH
X-WR-CALNAME:Greenville HA
X-ORIGINAL-URL:https://tgha.net
X-WR-CALDESC:Events for Greenville HA
REFRESH-INTERVAL;VALUE=DURATION:PT1H
X-Robots-Tag:noindex
X-PUBLISHED-TTL:PT1H
BEGIN:VTIMEZONE
TZID:America/New_York
BEGIN:DAYLIGHT
TZOFFSETFROM:-0500
TZOFFSETTO:-0400
TZNAME:EDT
DTSTART:20210314T070000
END:DAYLIGHT
BEGIN:STANDARD
TZOFFSETFROM:-0400
TZOFFSETTO:-0500
TZNAME:EST
DTSTART:20211107T060000
END:STANDARD
BEGIN:DAYLIGHT
TZOFFSETFROM:-0500
TZOFFSETTO:-0400
TZNAME:EDT
DTSTART:20220313T070000
END:DAYLIGHT
BEGIN:STANDARD
TZOFFSETFROM:-0400
TZOFFSETTO:-0500
TZNAME:EST
DTSTART:20221106T060000
END:STANDARD
BEGIN:DAYLIGHT
TZOFFSETFROM:-0500
TZOFFSETTO:-0400
TZNAME:EDT
DTSTART:20230312T070000
END:DAYLIGHT
BEGIN:STANDARD
TZOFFSETFROM:-0400
TZOFFSETTO:-0500
TZNAME:EST
DTSTART:20231105T060000
END:STANDARD
END:VTIMEZONE
BEGIN:VEVENT
DTSTART;TZID=America/New_York:20220804T150000
DTEND;TZID=America/New_York:20220804T160000
DTSTAMP:20260422T101433
CREATED:20221216T111721Z
LAST-MODIFIED:20230106T202619Z
UID:1594-1659625200-1659628800@tgha.net
SUMMARY:August 2022 Board Meeting
DESCRIPTION:Click Here -August 4th Board Meeting Announcement 
URL:https://tgha.net/event/august-2022-board-meeting/
CATEGORIES:Meeting
END:VEVENT
BEGIN:VEVENT
DTSTART;TZID=America/New_York:20220719T140000
DTEND;TZID=America/New_York:20220719T150000
DTSTAMP:20260422T101433
CREATED:20221216T111910Z
LAST-MODIFIED:20230106T202631Z
UID:1595-1658239200-1658242800@tgha.net
SUMMARY:July 2022 Development Meeting Announcement
DESCRIPTION:July 19th\, 2022 Development Meeting 
URL:https://tgha.net/event/july-2022-development-meeting-announcement/
CATEGORIES:Meeting
END:VEVENT
BEGIN:VEVENT
DTSTART;VALUE=DATE:20220711
DTEND;VALUE=DATE:20220712
DTSTAMP:20260422T101433
CREATED:20221114T145032Z
LAST-MODIFIED:20230106T202719Z
UID:1103-1657497600-1657583999@tgha.net
SUMMARY:IN SERVICE TRAINING JULY 2022
DESCRIPTION:
URL:https://tgha.net/event/in-service-training-july-2022/
CATEGORIES:Training
END:VEVENT
BEGIN:VEVENT
DTSTART;VALUE=DATE:20220707
DTEND;VALUE=DATE:20220708
DTSTAMP:20260422T101433
CREATED:20221216T114129Z
LAST-MODIFIED:20230106T202805Z
UID:1597-1657152000-1657238399@tgha.net
SUMMARY:July 2022 Board Meeting
DESCRIPTION:The Housing Authority of the City of Greenville board meeting for July 7th\, 2022 has been canceled.
URL:https://tgha.net/event/july-2022-board-meeting/
CATEGORIES:Meeting
END:VEVENT
BEGIN:VEVENT
DTSTART;TZID=America/New_York:20220623T110000
DTEND;TZID=America/New_York:20220623T120000
DTSTAMP:20260422T101433
CREATED:20221216T114323Z
LAST-MODIFIED:20230106T202845Z
UID:1598-1655982000-1655985600@tgha.net
SUMMARY:Finance June 2022 Committee Meeting
DESCRIPTION:CLICK HERE TO VIEW Finance Committee Meeting Flyer
URL:https://tgha.net/event/finance-june-2022-committee-meeting/
CATEGORIES:Meeting
END:VEVENT
BEGIN:VEVENT
DTSTART;TZID=America/New_York:20220621T140000
DTEND;TZID=America/New_York:20220621T150000
DTSTAMP:20260422T101433
CREATED:20221216T114517Z
LAST-MODIFIED:20230106T202908Z
UID:1599-1655820000-1655823600@tgha.net
SUMMARY:June 2022 Development Meeting
DESCRIPTION:CLICK HERE TO VIEW June Development Meeting Flyer
URL:https://tgha.net/event/june-2022-development-meeting/
CATEGORIES:Meeting
END:VEVENT
BEGIN:VEVENT
DTSTART;TZID=America/New_York:20220616T150000
DTEND;TZID=America/New_York:20220616T160000
DTSTAMP:20260422T101433
CREATED:20221216T114705Z
LAST-MODIFIED:20230106T202921Z
UID:1600-1655391600-1655395200@tgha.net
SUMMARY:Operations Committee June 2022 Meeting
DESCRIPTION:CLICK HERE TO VIEW Operations Committee June Meeting Flyer
URL:https://tgha.net/event/operations-committee-june-2022-meeting/
CATEGORIES:Meeting
END:VEVENT
BEGIN:VEVENT
DTSTART;TZID=America/New_York:20220615T110000
DTEND;TZID=America/New_York:20220615T120000
DTSTAMP:20260422T101433
CREATED:20221216T114841Z
LAST-MODIFIED:20230106T202943Z
UID:1601-1655290800-1655294400@tgha.net
SUMMARY:RAB Board Meeting June 2022
DESCRIPTION:CLICK HERE TO VIEW Resident Advisory Board Meeting Flyer
URL:https://tgha.net/event/rab-board-meeting-june-2022/
CATEGORIES:Meeting
END:VEVENT
BEGIN:VEVENT
DTSTART;TZID=America/New_York:20220602T150000
DTEND;TZID=America/New_York:20220602T160000
DTSTAMP:20260422T101433
CREATED:20221216T115011Z
LAST-MODIFIED:20230106T203008Z
UID:1602-1654182000-1654185600@tgha.net
SUMMARY:JUNE 2022 Board Meeting Announcement
DESCRIPTION:CLICK HERE TO VIEW June 5th Board Meeting Agenda
URL:https://tgha.net/event/june-2022-board-meeting-announcement/
CATEGORIES:Meeting
END:VEVENT
BEGIN:VEVENT
DTSTART;VALUE=DATE:20220530
DTEND;VALUE=DATE:20220531
DTSTAMP:20260422T101433
CREATED:20221216T002250Z
LAST-MODIFIED:20230106T203023Z
UID:1552-1653868800-1653955199@tgha.net
SUMMARY:Memorial Day 2022
DESCRIPTION:TGHA Offices Closed
URL:https://tgha.net/event/memorial-day-2022-2/
CATEGORIES:Holiday
END:VEVENT
BEGIN:VEVENT
DTSTART;TZID=America/New_York:20220519T150000
DTEND;TZID=America/New_York:20220519T160000
DTSTAMP:20260422T101434
CREATED:20221216T115433Z
LAST-MODIFIED:20230106T203055Z
UID:1606-1652972400-1652976000@tgha.net
SUMMARY:Operation Committee Meeting May 2022
DESCRIPTION:CLICK HERE TO VIEW Operation Committee Meeting Flyer
URL:https://tgha.net/event/operation-committee-meeting-may-2022/
CATEGORIES:Meeting
END:VEVENT
BEGIN:VEVENT
DTSTART;TZID=America/New_York:20220517T140000
DTEND;TZID=America/New_York:20220517T150000
DTSTAMP:20260422T101434
CREATED:20221216T115951Z
LAST-MODIFIED:20230106T203228Z
UID:1607-1652796000-1652799600@tgha.net
SUMMARY:May 2022 Development Committee Meeting
DESCRIPTION:CLICK HERE TO VIEW Development Committee Meeting Announcement Flyer
URL:https://tgha.net/event/may-2022-development-committee-meeting-2/
CATEGORIES:Meeting
END:VEVENT
BEGIN:VEVENT
DTSTART;TZID=America/New_York:20220505T150000
DTEND;TZID=America/New_York:20220505T160000
DTSTAMP:20260422T101434
CREATED:20221216T120135Z
LAST-MODIFIED:20230106T203218Z
UID:1608-1651762800-1651766400@tgha.net
SUMMARY:May 2022 Board Meeting Announcement
DESCRIPTION:CLICK HERE TO VIEW May 5th Board Meeting Agenda 
URL:https://tgha.net/event/may-2022-board-meeting-announcement/
CATEGORIES:Meeting
END:VEVENT
BEGIN:VEVENT
DTSTART;TZID=America/New_York:20220413T163000
DTEND;TZID=America/New_York:20220413T173000
DTSTAMP:20260422T101434
CREATED:20221216T120240Z
LAST-MODIFIED:20230106T203206Z
UID:1604-1649867400-1649871000@tgha.net
SUMMARY:April 2022 Operations Meeting
DESCRIPTION:CLICK HERE TO VIEW April Operations Meeting Announcement Flyer
URL:https://tgha.net/event/april-2022-operations-meeting/
CATEGORIES:Meeting
END:VEVENT
BEGIN:VEVENT
DTSTART;TZID=America/New_York:20220412T140000
DTEND;TZID=America/New_York:20220412T150000
DTSTAMP:20260422T101434
CREATED:20221216T120409Z
LAST-MODIFIED:20230106T203154Z
UID:1609-1649772000-1649775600@tgha.net
SUMMARY:April 2022 Development Meeting
DESCRIPTION:CLICK HERE TO VIEW April Development Meeting Announcement Flyer
URL:https://tgha.net/event/april-2022-development-meeting/
CATEGORIES:Meeting
END:VEVENT
BEGIN:VEVENT
DTSTART;TZID=America/New_York:20220407T153000
DTEND;TZID=America/New_York:20220407T160000
DTSTAMP:20260422T101434
CREATED:20221216T120501Z
LAST-MODIFIED:20230106T203142Z
UID:1610-1649345400-1649347200@tgha.net
SUMMARY:April 2022 Board Meeting
DESCRIPTION:CLICK HERE TO VIEW April Board Meeting Flyer
URL:https://tgha.net/event/april-2022-board-meeting/
CATEGORIES:Meeting
END:VEVENT
END:VCALENDAR