BEGIN:VCALENDAR
VERSION:2.0
PRODID:-//Greenville HA - ECPv6.15.20//NONSGML v1.0//EN
CALSCALE:GREGORIAN
METHOD:PUBLISH
X-WR-CALNAME:Greenville HA
X-ORIGINAL-URL:https://tgha.net
X-WR-CALDESC:Events for Greenville HA
REFRESH-INTERVAL;VALUE=DURATION:PT1H
X-Robots-Tag:noindex
X-PUBLISHED-TTL:PT1H
BEGIN:VTIMEZONE
TZID:America/New_York
BEGIN:DAYLIGHT
TZOFFSETFROM:-0500
TZOFFSETTO:-0400
TZNAME:EDT
DTSTART:20220313T070000
END:DAYLIGHT
BEGIN:STANDARD
TZOFFSETFROM:-0400
TZOFFSETTO:-0500
TZNAME:EST
DTSTART:20221106T060000
END:STANDARD
BEGIN:DAYLIGHT
TZOFFSETFROM:-0500
TZOFFSETTO:-0400
TZNAME:EDT
DTSTART:20230312T070000
END:DAYLIGHT
BEGIN:STANDARD
TZOFFSETFROM:-0400
TZOFFSETTO:-0500
TZNAME:EST
DTSTART:20231105T060000
END:STANDARD
BEGIN:DAYLIGHT
TZOFFSETFROM:-0500
TZOFFSETTO:-0400
TZNAME:EDT
DTSTART:20240310T070000
END:DAYLIGHT
BEGIN:STANDARD
TZOFFSETFROM:-0400
TZOFFSETTO:-0500
TZNAME:EST
DTSTART:20241103T060000
END:STANDARD
END:VTIMEZONE
BEGIN:VEVENT
DTSTART;TZID=America/New_York:20230928T140000
DTEND;TZID=America/New_York:20230928T163000
DTSTAMP:20260422T050306
CREATED:20230927T183100Z
LAST-MODIFIED:20230927T183100Z
UID:2372-1695909600-1695918600@tgha.net
SUMMARY:Development Committee Meeting
DESCRIPTION:TGHA’s next Development Committee Meeting. \nClick HERE to join via Zoom \nClick HERE to view the *REVISED* Agenda \nClick Here to view the Agenda  
URL:https://tgha.net/event/development-committee-meeting/
LOCATION:Online Only
CATEGORIES:Meeting
END:VEVENT
BEGIN:VEVENT
DTSTART;TZID=America/New_York:20230926T150000
DTEND;TZID=America/New_York:20230926T170000
DTSTAMP:20260422T050306
CREATED:20230926T132344Z
LAST-MODIFIED:20230926T132344Z
UID:2370-1695740400-1695747600@tgha.net
SUMMARY:Operations Committee Meeting
DESCRIPTION:TGHA’S next Operations Committee Meeting. \nClick HERE to join via Zoom \nClick HERE to view the Agenda
URL:https://tgha.net/event/operations-committee-meeting/
LOCATION:Edinburgh Ct\, 122 Edinburgh Ct\, Greenville\, SC\, 29607\, United States
CATEGORIES:Meeting
END:VEVENT
BEGIN:VEVENT
DTSTART;TZID=America/New_York:20230914T150000
DTEND;TZID=America/New_York:20230914T170000
DTSTAMP:20260422T050306
CREATED:20230914T144737Z
LAST-MODIFIED:20230914T144739Z
UID:2358-1694703600-1694710800@tgha.net
SUMMARY:TGHA Monthly Board Meeting
DESCRIPTION:TGHA’s next monthly board meeting \nClick HERE to join via Zoom \nClick HERE to view the Agenda
URL:https://tgha.net/event/tgha-monthly-board-meeting-2/
LOCATION:Truist Culinary Center\, 556 Perry Avenue Ste B114\, Greenville\, SC\, 29611\, United States
CATEGORIES:Meeting
END:VEVENT
BEGIN:VEVENT
DTSTART;TZID=America/New_York:20230913T110000
DTEND;TZID=America/New_York:20230913T120000
DTSTAMP:20260422T050306
CREATED:20230911T194547Z
LAST-MODIFIED:20230911T194547Z
UID:2353-1694602800-1694606400@tgha.net
SUMMARY:Finance Committee Meeting
DESCRIPTION:TGHA’s next Finance Committee Meeting \nClick HERE to join via Zoom \nClick HERE to view the Agenda
URL:https://tgha.net/event/finance-committee-meeting-3/
LOCATION:Online Only
CATEGORIES:Meeting
END:VEVENT
BEGIN:VEVENT
DTSTART;VALUE=DATE:20230904
DTEND;VALUE=DATE:20230905
DTSTAMP:20260422T050306
CREATED:20221220T104355Z
LAST-MODIFIED:20230106T202003Z
UID:1684-1693785600-1693871999@tgha.net
SUMMARY:Labor Day 2022
DESCRIPTION:TGHA Offices Closed
URL:https://tgha.net/event/labor-day-2022/
LOCATION:The Salvation Army Kroc Center\, 424 Westfield Street\, Greenville\, 29601
CATEGORIES:Holiday
END:VEVENT
BEGIN:VEVENT
DTSTART;TZID=America/New_York:20230815T140000
DTEND;TZID=America/New_York:20230815T150000
DTSTAMP:20260422T050306
CREATED:20230811T193240Z
LAST-MODIFIED:20230811T193240Z
UID:2319-1692108000-1692111600@tgha.net
SUMMARY:TGHA Development Committee Meeting
DESCRIPTION:TGHA’s next monthly Development Committee meeting. \nCLICK HERE to join via Zoom \nCLICK HERE to view Agenda
URL:https://tgha.net/event/tgha-development-committee-meeting/
LOCATION:Online Only
CATEGORIES:Meeting
END:VEVENT
BEGIN:VEVENT
DTSTART;TZID=America/New_York:20230803T150000
DTEND;TZID=America/New_York:20230803T170000
DTSTAMP:20260422T050306
CREATED:20230731T213238Z
LAST-MODIFIED:20230731T213239Z
UID:2315-1691074800-1691082000@tgha.net
SUMMARY:TGHA Board Meeting
DESCRIPTION:TGHA’s next monthly board meeting. \nClick here to join via Zoom \nClick here to view the Agenda
URL:https://tgha.net/event/tgha-board-meeting/
LOCATION:The Salvation Army Kroc Center\, 424 Westfield Street\, Greenville\, 29601
CATEGORIES:Meeting
END:VEVENT
BEGIN:VEVENT
DTSTART;VALUE=DATE:20230704
DTEND;VALUE=DATE:20230705
DTSTAMP:20260422T050306
CREATED:20221220T104329Z
LAST-MODIFIED:20230106T202055Z
UID:1683-1688428800-1688515199@tgha.net
SUMMARY:Independence Day 2023
DESCRIPTION:TGHA Offices Closed
URL:https://tgha.net/event/independence-day-2023/
LOCATION:SC
CATEGORIES:Holiday
END:VEVENT
BEGIN:VEVENT
DTSTART;TZID=America/New_York:20230623T153000
DTEND;TZID=America/New_York:20230623T170000
DTSTAMP:20260422T050306
CREATED:20230622T195632Z
LAST-MODIFIED:20230622T195632Z
UID:2291-1687534200-1687539600@tgha.net
SUMMARY:TGHA Special Board Meeting
DESCRIPTION:TGHA is conducting a Special Board Meeting Friday\, June 23rd at 3:00 pm. \nClick HERE to join via Zoom. \nClick HERE to view the Agenda.
URL:https://tgha.net/event/tgha-special-board-meeting/
LOCATION:Edinburgh Ct\, 122 Edinburgh Ct\, Greenville\, SC\, 29607\, United States
CATEGORIES:Meeting
END:VEVENT
BEGIN:VEVENT
DTSTART;TZID=America/New_York:20230621T140000
DTEND;TZID=America/New_York:20230621T150000
DTSTAMP:20260422T050306
CREATED:20230620T185724Z
LAST-MODIFIED:20230620T185724Z
UID:2285-1687356000-1687359600@tgha.net
SUMMARY:Finance Committee Meeting
DESCRIPTION:TGHA’s next monthly Finance Committee meeting. \nClick HERE to join via Zoom \nClick HERE to view the Agenda
URL:https://tgha.net/event/finance-committee-meeting-2/
LOCATION:Online Only
CATEGORIES:Meeting
END:VEVENT
BEGIN:VEVENT
DTSTART;TZID=America/New_York:20230620T150000
DTEND;TZID=America/New_York:20230620T160000
DTSTAMP:20260422T050306
CREATED:20230619T181656Z
LAST-MODIFIED:20230619T181656Z
UID:2280-1687273200-1687276800@tgha.net
SUMMARY:
DESCRIPTION:Development Agenda June 20th\, 2023
URL:https://tgha.net/event/2280/
LOCATION:Edinburgh Ct\, 122 Edinburgh Ct\, Greenville\, SC\, 29607\, United States
CATEGORIES:Meeting
END:VEVENT
BEGIN:VEVENT
DTSTART;VALUE=DATE:20230619
DTEND;VALUE=DATE:20230620
DTSTAMP:20260422T050306
CREATED:20221220T104302Z
LAST-MODIFIED:20230106T202110Z
UID:1682-1687132800-1687219199@tgha.net
SUMMARY:Juneteenth Independence Day 2022
DESCRIPTION:TGHA Offices Closed
URL:https://tgha.net/event/juneteenth-independence-day-2022/
LOCATION:The Salvation Army Kroc Center\, 424 Westfield Street\, Greenville\, 29601
CATEGORIES:Holiday
END:VEVENT
BEGIN:VEVENT
DTSTART;TZID=America/New_York:20230615T150000
DTEND;TZID=America/New_York:20230615T160000
DTSTAMP:20260422T050306
CREATED:20230613T201515Z
LAST-MODIFIED:20230613T201515Z
UID:2266-1686841200-1686844800@tgha.net
SUMMARY:TGHA June Operations Committee Meeting
DESCRIPTION:TGHA’s next monthly Operations Committee meeting. \nClick HERE to join Zoom \nClick HERE to view Agenda
URL:https://tgha.net/event/tgha-june-operations-committee-meeting/
LOCATION:Online Only
CATEGORIES:Meeting
END:VEVENT
BEGIN:VEVENT
DTSTART;TZID=America/New_York:20230601T150000
DTEND;TZID=America/New_York:20230601T170000
DTSTAMP:20260422T050306
CREATED:20230530T205119Z
LAST-MODIFIED:20230530T205119Z
UID:2255-1685631600-1685638800@tgha.net
SUMMARY:TGHA June Monthly Board Meeting
DESCRIPTION:The Greenville Housing Authorities next monthly Board Meeting. \nClick HERE to join via Zoom \nClick HERE to view Agenda
URL:https://tgha.net/event/tgha-june-monthly-board-meeting/
LOCATION:The Salvation Army Kroc Center\, 424 Westfield Street\, Greenville\, 29601
CATEGORIES:Meeting
END:VEVENT
BEGIN:VEVENT
DTSTART;VALUE=DATE:20230529
DTEND;VALUE=DATE:20230530
DTSTAMP:20260422T050306
CREATED:20221216T115152Z
LAST-MODIFIED:20230106T202120Z
UID:1603-1685318400-1685404799@tgha.net
SUMMARY:Memorial Day-2022
DESCRIPTION:TGHA Offices Closed
URL:https://tgha.net/event/memorial-day-2022/
LOCATION:SC
CATEGORIES:Holiday
END:VEVENT
BEGIN:VEVENT
DTSTART;TZID=America/New_York:20230516T140000
DTEND;TZID=America/New_York:20230516T150000
DTSTAMP:20260422T050306
CREATED:20230512T203928Z
LAST-MODIFIED:20230512T203928Z
UID:2230-1684245600-1684249200@tgha.net
SUMMARY:May Development Committee Meeting
DESCRIPTION:TGHA’s next Development Committee Meeting. \nClick here to join via Zoom \nClick here to view Agenda
URL:https://tgha.net/event/may-development-committee-meeting/
LOCATION:Online Only
CATEGORIES:Meeting
END:VEVENT
BEGIN:VEVENT
DTSTART;TZID=America/New_York:20230504T150000
DTEND;TZID=America/New_York:20230504T170000
DTSTAMP:20260422T050306
CREATED:20230502T174235Z
LAST-MODIFIED:20230502T174235Z
UID:2193-1683212400-1683219600@tgha.net
SUMMARY:TGHA Monthly Board Meeting
DESCRIPTION:The Greenville Housing Authorities next monthly Board Meeting. \nClick here to join via Zoom. \nClick here to view Agenda.
URL:https://tgha.net/event/tgha-monthly-board-meeting/
LOCATION:The Salvation Army Kroc Center\, 424 Westfield Street\, Greenville\, 29601
CATEGORIES:Meeting
END:VEVENT
BEGIN:VEVENT
DTSTART;TZID=America/New_York:20230421T110000
DTEND;TZID=America/New_York:20230421T120000
DTSTAMP:20260422T050306
CREATED:20230419T133721Z
LAST-MODIFIED:20230419T133721Z
UID:2168-1682074800-1682078400@tgha.net
SUMMARY:Special Finance Committee Meeting
DESCRIPTION:TGHA’s next Special Finance Committee meeting. \nClick to join via Zoom. \nClick to view agenda.
URL:https://tgha.net/event/special-finance-committee-meeting/
LOCATION:Online Only
CATEGORIES:Meeting
END:VEVENT
BEGIN:VEVENT
DTSTART;TZID=America/New_York:20230419T150000
DTEND;TZID=America/New_York:20230419T160000
DTSTAMP:20260422T050306
CREATED:20230419T125248Z
LAST-MODIFIED:20230419T125248Z
UID:2167-1681916400-1681920000@tgha.net
SUMMARY:Special Operations Meeting
DESCRIPTION:TGHA’s next Special Operations Meeting. \nClick to join via zoom. \nClick to view agenda.
URL:https://tgha.net/event/special-operations-meeting/
LOCATION:Online Only
CATEGORIES:Meeting
END:VEVENT
BEGIN:VEVENT
DTSTART;TZID=America/New_York:20230418T140000
DTEND;TZID=America/New_York:20230418T150000
DTSTAMP:20260422T050306
CREATED:20230417T161531Z
LAST-MODIFIED:20230417T161531Z
UID:2164-1681826400-1681830000@tgha.net
SUMMARY:April Development Committee Meeting
DESCRIPTION:TGHA’s next Development Committee Meeting. \n\nClick HERE to join zoom. \nClick HERE to view agenda.
URL:https://tgha.net/event/april-development-committee-meeting/
LOCATION:Online Only
CATEGORIES:Meeting
END:VEVENT
BEGIN:VEVENT
DTSTART;TZID=America/New_York:20230406T150000
DTEND;TZID=America/New_York:20230406T170000
DTSTAMP:20260422T050306
CREATED:20230405T170737Z
LAST-MODIFIED:20230405T170737Z
UID:2148-1680793200-1680800400@tgha.net
SUMMARY:April Board Meeting
DESCRIPTION:The Greenville Housing Authority’s next monthly meeting for the Board of Commissioners. \nClick here to join Zoom \nClick here to view Agenda
URL:https://tgha.net/event/april-board-meeting/
LOCATION:The Salvation Army Kroc Center\, 424 Westfield Street\, Greenville\, 29601
CATEGORIES:Meeting
END:VEVENT
BEGIN:VEVENT
DTSTART;TZID=America/New_York:20230330T110000
DTEND;TZID=America/New_York:20230330T120000
DTSTAMP:20260422T050306
CREATED:20230330T124717Z
LAST-MODIFIED:20230330T124718Z
UID:2146-1680174000-1680177600@tgha.net
SUMMARY:Finance Committee Meeting
DESCRIPTION:TGHA Finance Committee Meeting. \nClick HERE to join Zoom. \nClick HERE to view Agenda.
URL:https://tgha.net/event/finance-committee-meeting/
LOCATION:Online Only
CATEGORIES:Meeting
END:VEVENT
BEGIN:VEVENT
DTSTART;TZID=America/New_York:20230321T140000
DTEND;TZID=America/New_York:20230321T150000
DTSTAMP:20260422T050306
CREATED:20230320T165226Z
LAST-MODIFIED:20230320T165226Z
UID:2110-1679407200-1679410800@tgha.net
SUMMARY:March Development Committee Meeting
DESCRIPTION:TGHA’s next monthly Development Committee meeting. \nClick HERE to join Zoom \nClick HERE to view Agenda
URL:https://tgha.net/event/march-development-committee-meeting/
LOCATION:Online Only
CATEGORIES:Meeting
END:VEVENT
BEGIN:VEVENT
DTSTART;TZID=America/New_York:20230315T150000
DTEND;TZID=America/New_York:20230315T160000
DTSTAMP:20260422T050306
CREATED:20230315T125209Z
LAST-MODIFIED:20230315T125209Z
UID:2093-1678892400-1678896000@tgha.net
SUMMARY:March Operations Committee Meeting
DESCRIPTION:The Greenville Housing Authority’s next monthly Operations Committee Meeting. \nClick HERE to join Zoom \nClick HERE to view Agenda
URL:https://tgha.net/event/march-operations-committee-meeting/
LOCATION:Edinburgh Ct\, 122 Edinburgh Ct\, Greenville\, SC\, 29607\, United States
CATEGORIES:Meeting
END:VEVENT
BEGIN:VEVENT
DTSTART;TZID=America/New_York:20230302T150000
DTEND;TZID=America/New_York:20230302T170000
DTSTAMP:20260422T050306
CREATED:20230301T184455Z
LAST-MODIFIED:20230301T184455Z
UID:2070-1677769200-1677776400@tgha.net
SUMMARY:March Board Meeting
DESCRIPTION:The Greenville Housing Authority’s next monthly meeting for the Board of Commissioners. \nClick here to join Zoom \nClick here to view Agenda (Revised) 
URL:https://tgha.net/event/march-board-meeting/
LOCATION:The Salvation Army Kroc Center\, 424 Westfield Street\, Greenville\, 29601
CATEGORIES:Meeting
END:VEVENT
BEGIN:VEVENT
DTSTART;TZID=America/New_York:20230223T153000
DTEND;TZID=America/New_York:20230223T163000
DTSTAMP:20260422T050306
CREATED:20230222T003954Z
LAST-MODIFIED:20230222T003954Z
UID:2056-1677166200-1677169800@tgha.net
SUMMARY:February Board Meeting
DESCRIPTION:The Greenville Housing Authority’s next monthly meeting for the Board of Commissioners. \nClick here to join Zoom \nClick here to view Agenda (Revised) \n 
URL:https://tgha.net/event/february-board-meeting-2/
LOCATION:Edinburgh Ct\, 122 Edinburgh Ct\, Greenville\, SC\, 29607\, United States
CATEGORIES:Meeting
END:VEVENT
BEGIN:VEVENT
DTSTART;TZID=America/New_York:20230215T153000
DTEND;TZID=America/New_York:20230215T163000
DTSTAMP:20260422T050306
CREATED:20230214T225127Z
LAST-MODIFIED:20230214T225127Z
UID:2053-1676475000-1676478600@tgha.net
SUMMARY:February Special Board Meeting
DESCRIPTION:The Greenville Housing Authority’s next Special Board Meeting. \nClick HERE to join Zoom. \nClick HERE to view agenda.
URL:https://tgha.net/event/february-special-board-meeting/
LOCATION:Edinburgh Ct\, 122 Edinburgh Ct\, Greenville\, SC\, 29607\, United States
CATEGORIES:Meeting
END:VEVENT
BEGIN:VEVENT
DTSTART;TZID=America/New_York:20230213T153000
DTEND;TZID=America/New_York:20230213T163000
DTSTAMP:20260422T050306
CREATED:20230210T165442Z
LAST-MODIFIED:20230210T165442Z
UID:2047-1676302200-1676305800@tgha.net
SUMMARY:February Development Meeting
DESCRIPTION:The Greenville Housing Authority’s next monthly virtual meeting for the Development Committee Meeting. \nClick here to join Zoom. \nClick here to view Agenda. \nClick here to view flyer.
URL:https://tgha.net/event/february-development-meeting-2/
LOCATION:Online Only
CATEGORIES:Meeting
END:VEVENT
BEGIN:VEVENT
DTSTART;TZID=America/New_York:20230206T153000
DTEND;TZID=America/New_York:20230206T163000
DTSTAMP:20260422T050306
CREATED:20230203T192939Z
LAST-MODIFIED:20230203T192939Z
UID:2038-1675697400-1675701000@tgha.net
SUMMARY:February Development Meeting
DESCRIPTION:The Greenville Housing Authority’s next monthly virtual meeting for the Development Committee Meeting. \nClick here to join Zoom \nClick here to view Agenda \nClick here to view Flyer
URL:https://tgha.net/event/february-development-meeting/
LOCATION:Online Only
CATEGORIES:Meeting
END:VEVENT
BEGIN:VEVENT
DTSTART;TZID=America/New_York:20230202T150000
DTEND;TZID=America/New_York:20230202T170000
DTSTAMP:20260422T050306
CREATED:20230202T133837Z
LAST-MODIFIED:20230202T133837Z
UID:2012-1675350000-1675357200@tgha.net
SUMMARY:February Board Meeting
DESCRIPTION:The Greenville Housing Authority’s next monthly meeting for the Board of Commissioners. \nClick here to join Zoom \nClick here to view Agenda
URL:https://tgha.net/event/february-board-meeting/
LOCATION:The Salvation Army Kroc Center\, 424 Westfield Street\, Greenville\, 29601
CATEGORIES:Meeting
END:VEVENT
END:VCALENDAR